BEGIN:VCALENDAR
VERSION:2.0
PRODID:-//AICLA - ECPv6.15.17.1//NONSGML v1.0//EN
CALSCALE:GREGORIAN
METHOD:PUBLISH
X-ORIGINAL-URL:https://aicla.org
X-WR-CALDESC:Events for AICLA
REFRESH-INTERVAL;VALUE=DURATION:PT1H
X-Robots-Tag:noindex
X-PUBLISHED-TTL:PT1H
BEGIN:VTIMEZONE
TZID:UTC
BEGIN:STANDARD
TZOFFSETFROM:+0000
TZOFFSETTO:+0000
TZNAME:UTC
DTSTART:20230101T000000
END:STANDARD
END:VTIMEZONE
BEGIN:VEVENT
DTSTART;TZID=UTC:20240320T073000
DTEND;TZID=UTC:20240320T093000
DTSTAMP:20260420T142101
CREATED:20240213T014809Z
LAST-MODIFIED:20240306T002630Z
UID:29670-1710919800-1710927000@aicla.org
SUMMARY:QLD Breakfast Seminar
DESCRIPTION:The QLD Division’s first educational activity for 2024 will be a breakfast seminar at Victoria Park. \nGuest speaker Priya Paquet\, Partner at Hall & Wilcox\, will present on ‘Recoveries and Claims: the important role an adjuster plays in identifying recoveries and evidence gathering’. \nNumbers are limited\, so early registration is recommended. Ticket sales end close of business Friday 15th of March\, unless sold out prior. \nAICLA CPD: 1 Point\nSponsors:\nPlatinum: \n \nGold: \n  \n \n 
URL:https://aicla.org/event/qld-breakfast-seminar-2/
LOCATION:Garden Marquee\, Victoria Park\, 309 Herston Rd\, HERSTON\, Australia
ATTACH;FMTTYPE=image/png:https://aicla.org/wp-content/uploads/Copy-of-QLD-Breakfast.png
END:VEVENT
END:VCALENDAR