BEGIN:VCALENDAR
VERSION:2.0
PRODID:-//AICLA - ECPv6.15.17.1//NONSGML v1.0//EN
CALSCALE:GREGORIAN
METHOD:PUBLISH
X-ORIGINAL-URL:https://aicla.org
X-WR-CALDESC:Events for AICLA
REFRESH-INTERVAL;VALUE=DURATION:PT1H
X-Robots-Tag:noindex
X-PUBLISHED-TTL:PT1H
BEGIN:VTIMEZONE
TZID:UTC
BEGIN:STANDARD
TZOFFSETFROM:+0000
TZOFFSETTO:+0000
TZNAME:UTC
DTSTART:20240101T000000
END:STANDARD
END:VTIMEZONE
BEGIN:VEVENT
DTSTART;TZID=UTC:20250214T160000
DTEND;TZID=UTC:20250214T180000
DTSTAMP:20260420T181609
CREATED:20250121T012543Z
LAST-MODIFIED:20250131T023521Z
UID:37899-1739548800-1739556000@aicla.org
SUMMARY:SA/NT Seminar & Networking
DESCRIPTION:  \nProudly sponsored by: \n  \n \n 
URL:https://aicla.org/event/sa-seminar-feb25/
LOCATION:The Historian Hotel\, 18 Coromandel Place\, Adelaide\, SA\, 5000
ATTACH;FMTTYPE=image/png:https://aicla.org/wp-content/uploads/SA-Seminar-2-1.png
END:VEVENT
END:VCALENDAR