BEGIN:VCALENDAR
VERSION:2.0
PRODID:-//AICLA - ECPv6.15.17.1//NONSGML v1.0//EN
CALSCALE:GREGORIAN
METHOD:PUBLISH
X-WR-CALNAME:AICLA
X-ORIGINAL-URL:https://aicla.org
X-WR-CALDESC:Events for AICLA
REFRESH-INTERVAL;VALUE=DURATION:PT1H
X-Robots-Tag:noindex
X-PUBLISHED-TTL:PT1H
BEGIN:VTIMEZONE
TZID:Asia/Singapore
BEGIN:STANDARD
TZOFFSETFROM:+0800
TZOFFSETTO:+0800
TZNAME:+08
DTSTART:20240101T000000
END:STANDARD
END:VTIMEZONE
BEGIN:VEVENT
DTSTART;TZID=Asia/Singapore:20250428T140000
DTEND;TZID=Asia/Singapore:20250428T150000
DTSTAMP:20260420T222401
CREATED:20250415T104319Z
LAST-MODIFIED:20250416T005920Z
UID:39827-1745848800-1745852400@aicla.org
SUMMARY:Structural Failures Webinar
DESCRIPTION:You are invited to join us for an online education seminar on 28 April via Microsoft Teams\nYang Dang is a forensic structural engineer at Hawkins Singapore. He specialises in the investigation of building collapses\, structural failures\, and defects. \nWebinar details\nStructural failures can have catastrophic consequences. Understanding why these failures occur and how to prevent them is essential for professionals in engineering\, construction\, insurance\, and law. \nThis webinar takes a close look at real-world structural failures\, examining what went wrong\, how investigations are conducted\, and what we can learn. Participants will gain practical insights into: \n\nHow forensic engineers determine failure mechanisms through site inspections\, material testing\, and advanced structural analysis.\nCommon causes of collapses\, including design flaws\, construction defects\, and extreme loading events.\n\n  \nAICLA CPD: 1 Point\n  \nClick here to join the meeting\nWhen: 2pm – 3pm (Singapore time SGT)\,  Monday 28 April 2025 \nTo add this event to your calendar please click here\nPlease see further detailed instructions to join via Teams below: \nJoin on your computer\, mobile app or room device \nMeeting ID: 492 852 178 28 \nPasscode: nH3D5FP6
URL:https://aicla.org/event/structural-failures-webinar/
LOCATION:VIC
ATTACH;FMTTYPE=image/png:https://aicla.org/wp-content/uploads/INT-WEbinar-Hawkins.png
END:VEVENT
END:VCALENDAR