BEGIN:VCALENDAR
VERSION:2.0
PRODID:-//AICLA - ECPv6.15.17.1//NONSGML v1.0//EN
CALSCALE:GREGORIAN
METHOD:PUBLISH
X-WR-CALNAME:AICLA
X-ORIGINAL-URL:https://aicla.org
X-WR-CALDESC:Events for AICLA
REFRESH-INTERVAL;VALUE=DURATION:PT1H
X-Robots-Tag:noindex
X-PUBLISHED-TTL:PT1H
BEGIN:VTIMEZONE
TZID:UTC
BEGIN:STANDARD
TZOFFSETFROM:+0000
TZOFFSETTO:+0000
TZNAME:UTC
DTSTART:20240101T000000
END:STANDARD
END:VTIMEZONE
BEGIN:VEVENT
DTSTART;TZID=UTC:20250626T160000
DTEND;TZID=UTC:20250626T180000
DTSTAMP:20260421T023602
CREATED:20250619T233638Z
LAST-MODIFIED:20250620T000353Z
UID:41266-1750953600-1750960800@aicla.org
SUMMARY:AICLA VIC / AILA Panel Discussion
DESCRIPTION:Legal Professional Privilege for Loss Adjusters and Expert Witnesses\nJoin AILA\, AICLA – Victorian Division and leading experts from across the insurance and legal landscape as they share practical tips and strategies to preserve legal professional privilege and uphold professional and ethical standards when managing complex insurance claims and litigation. \nSpeakers include: \n• John Tesarsch\, Barrister\, Dever’s List \n• Derham Daymond\, Head of Liability\, Crawford & Co \n• Kari Bergsson\, Deputy General Counsel – Claims\, QBE \n• David Gibson\, Partner – Forensic Accounting Services\, Sedgwick \n• Dion Gooderham\, Legal Consultant \nWith thanks to event sponsor CGU Insurance. \nDon’t miss this essential session for claims professionals\, legal practitioners and insurers navigating complex matters. \nThis collaborative event will be held at CGU on Thursday 26 June from 4-6pm and will include networking drinks. \nLimited tickets are available only through the AILA website – click here \nAICLA CPD: 1 Point
URL:https://aicla.org/event/aila-panel-june25/
LOCATION:CGU\, 181 William St\, Melbourne\, VIC\, 3000\, Australia
ATTACH;FMTTYPE=image/png:https://aicla.org/wp-content/uploads/VIC-Panel-1.png
END:VEVENT
END:VCALENDAR