BEGIN:VCALENDAR
VERSION:2.0
PRODID:-//AICLA - ECPv6.15.17.1//NONSGML v1.0//EN
CALSCALE:GREGORIAN
METHOD:PUBLISH
X-ORIGINAL-URL:https://aicla.org
X-WR-CALDESC:Events for AICLA
REFRESH-INTERVAL;VALUE=DURATION:PT1H
X-Robots-Tag:noindex
X-PUBLISHED-TTL:PT1H
BEGIN:VTIMEZONE
TZID:Australia/Perth
BEGIN:STANDARD
TZOFFSETFROM:+0800
TZOFFSETTO:+0800
TZNAME:AWST
DTSTART:20240101T000000
END:STANDARD
END:VTIMEZONE
BEGIN:VEVENT
DTSTART;TZID=Australia/Perth:20251016T170000
DTEND;TZID=Australia/Perth:20251016T200000
DTSTAMP:20260421T111642
CREATED:20250523T035518Z
LAST-MODIFIED:20251003T230208Z
UID:40753-1760634000-1760644800@aicla.org
SUMMARY:WA Sundowner
DESCRIPTION:Come and join industry colleagues to chew the fat\, solve all problems\, change the industry and generally socialise whilst enjoying drinks and canapés with views of Perth City Centre. \nNo speakers and no introduction – simply a chance to enjoy each other’s company and the craic watching the sun go down. \nWe look forward to seeing you all on the evening. \n  \nSponsored by Steamatic \n  \n \n 
URL:https://aicla.org/event/wa-sundowner-2025/
LOCATION:The Aviary Perth\, Level 1/140 William St\, PERTH\, WA\, 6000\, Australia
ATTACH;FMTTYPE=image/png:https://aicla.org/wp-content/uploads/Blue-and-Pale-Yellow-Drinks-Happy-Hour-Invitation-1032-x-680-px.png
END:VEVENT
END:VCALENDAR