BEGIN:VCALENDAR
VERSION:2.0
PRODID:-//AICLA - ECPv6.15.17.1//NONSGML v1.0//EN
CALSCALE:GREGORIAN
METHOD:PUBLISH
X-WR-CALNAME:AICLA
X-ORIGINAL-URL:https://aicla.org
X-WR-CALDESC:Events for AICLA
REFRESH-INTERVAL;VALUE=DURATION:PT1H
X-Robots-Tag:noindex
X-PUBLISHED-TTL:PT1H
BEGIN:VTIMEZONE
TZID:UTC
BEGIN:STANDARD
TZOFFSETFROM:+0000
TZOFFSETTO:+0000
TZNAME:UTC
DTSTART:20240101T000000
END:STANDARD
END:VTIMEZONE
BEGIN:VEVENT
DTSTART;TZID=UTC:20251031T113000
DTEND;TZID=UTC:20251031T190000
DTSTAMP:20260421T111437
CREATED:20250904T033242Z
LAST-MODIFIED:20251024T072115Z
UID:43820-1761910200-1761937200@aicla.org
SUMMARY:SA/NT Annual Lunch
DESCRIPTION:It’s time for one of the highlights of the year – our Annual Luncheon! \nThis isn’t just about sharing a meal (though the food will be excellent)\, it’s about coming together\, catching up with friends\, making new connections\, and leaving with a story you won’t forget. \nThis year\, we’re delighted to welcome special guest speaker Shayna Jack OAM OLY whose powerful story of resilience and courage will inspire\, uplift\, and remind us all what’s possible when you refuse to give up. \nBring your appetite\, your curiosity\, and your energy – it’s set to be an afternoon filled with great company\, laughter\, and plenty of inspiration. \nOur thanks to the following sponsors\nPalladium: \n  \n\n\n  \nPlatinum:  \n\n\n  \n\nGold: \n  \n \n  \n \n\n\n  \nSilver: \n  \n \n  \n \n  \nBronze: \n  \n\n  \n \n  \n\n\n  \nFor any unallocated tickets purchased\, please add “TBA” in required fields and advise details via email by 30 September. \n 
URL:https://aicla.org/event/sa-lunch-2025/
LOCATION:Ian McLachlan Room\, Adelaide Oval\, War Memorial Drive\, North Adelaide\, SA\, 5006\, Australia
ATTACH;FMTTYPE=image/png:https://aicla.org/wp-content/uploads/SA-Lunch.png
END:VEVENT
END:VCALENDAR