BEGIN:VCALENDAR
VERSION:2.0
PRODID:-//AICLA - ECPv6.15.17.1//NONSGML v1.0//EN
CALSCALE:GREGORIAN
METHOD:PUBLISH
X-WR-CALNAME:AICLA
X-ORIGINAL-URL:https://aicla.org
X-WR-CALDESC:Events for AICLA
REFRESH-INTERVAL;VALUE=DURATION:PT1H
X-Robots-Tag:noindex
X-PUBLISHED-TTL:PT1H
BEGIN:VTIMEZONE
TZID:UTC
BEGIN:STANDARD
TZOFFSETFROM:+0000
TZOFFSETTO:+0000
TZNAME:UTC
DTSTART:20250101T000000
END:STANDARD
END:VTIMEZONE
BEGIN:VEVENT
DTSTART;TZID=UTC:20260226T173000
DTEND;TZID=UTC:20260226T203000
DTSTAMP:20260419T132414
CREATED:20251126T034209Z
LAST-MODIFIED:20260218T041514Z
UID:47065-1772127000-1772137800@aicla.org
SUMMARY:QLD Networking Event
DESCRIPTION:AICLA QLD invites members and guests to join us for our first event of 2026! \nTickets include canapés\, three-hour drinks package\, and an excellent opportunity to mix in a relaxed\, social environment\, with exclusive use of The Atrium\, Pig ‘N’ Whistle Brunswick St. \nDress code: smart casual \nOur thanks to sponsors:\n  \nPlatinum \n \n  \nGold \n  \n \n  \n \n  \n \n  \n \n  \nTo join the waitlist for additional tickets\, please email adminoffice@aicla.org
URL:https://aicla.org/event/qld-networking-2026/
LOCATION:Pig ‘N’ Whistle Brunswick St\, 312-318 Brunswick St\, Fortitude Valley\, QLD\, 4006\, Australia
ATTACH;FMTTYPE=image/png:https://aicla.org/wp-content/uploads/QLD-Networking.png
END:VEVENT
END:VCALENDAR