BEGIN:VCALENDAR
VERSION:2.0
PRODID:-//AICLA - ECPv6.15.17.1//NONSGML v1.0//EN
CALSCALE:GREGORIAN
METHOD:PUBLISH
X-ORIGINAL-URL:https://aicla.org
X-WR-CALDESC:Events for AICLA
REFRESH-INTERVAL;VALUE=DURATION:PT1H
X-Robots-Tag:noindex
X-PUBLISHED-TTL:PT1H
BEGIN:VTIMEZONE
TZID:UTC
BEGIN:STANDARD
TZOFFSETFROM:+0000
TZOFFSETTO:+0000
TZNAME:UTC
DTSTART:20250101T000000
END:STANDARD
END:VTIMEZONE
BEGIN:VEVENT
DTSTART;TZID=UTC:20260729T073000
DTEND;TZID=UTC:20260729T100000
DTSTAMP:20260421T142222
CREATED:20251126T041223Z
LAST-MODIFIED:20260407T013450Z
UID:47075-1785310200-1785319200@aicla.org
SUMMARY:QLD Breakfast Seminar
DESCRIPTION:AICLA QLD Division’s third and final breakfast seminar for 2026 will be held at the Broncos Leagues Club on 29 July. \nNumbers are limited\, so early registration is recommended. \nAICLA CPD: 1 Point\n  \nWith thanks to sponsors:\n  \n \n  \n \n  \n \n  \n \n  \n \n  \n 
URL:https://aicla.org/event/qld-bfast-july26/
LOCATION:Brisbane Broncos Club\, 98 Fulcher Rd\, Red Hill\, QLD\, 4059\, Australia
ATTACH;FMTTYPE=image/png:https://aicla.org/wp-content/uploads/QLD-Bfast-July.png
END:VEVENT
END:VCALENDAR