BEGIN:VCALENDAR
VERSION:2.0
PRODID:-//AICLA - ECPv6.15.17.1//NONSGML v1.0//EN
CALSCALE:GREGORIAN
METHOD:PUBLISH
X-ORIGINAL-URL:https://aicla.org
X-WR-CALDESC:Events for AICLA
REFRESH-INTERVAL;VALUE=DURATION:PT1H
X-Robots-Tag:noindex
X-PUBLISHED-TTL:PT1H
BEGIN:VTIMEZONE
TZID:UTC
BEGIN:STANDARD
TZOFFSETFROM:+0000
TZOFFSETTO:+0000
TZNAME:UTC
DTSTART:20240101T000000
END:STANDARD
END:VTIMEZONE
BEGIN:VEVENT
DTSTART;TZID=UTC:20250213T073000
DTEND;TZID=UTC:20250213T093000
DTSTAMP:20260420T161048
CREATED:20241127T000057Z
LAST-MODIFIED:20250130T061303Z
UID:37379-1739431800-1739439000@aicla.org
SUMMARY:WA Breakfast Seminar
DESCRIPTION:Join the AICLA WA Division along with Mario Snyman of WT Partnership for an educational seminar: \nTrends in Construction Costs with Particular Reference to WA\nMario Snyman is the State Director of WT Partnership. Having worked in both South Africa and Australia\, Mario has gained valuable insight from all aspects of Cost Management and Quantity Surveying; working alongside Contractors and Client Representatives. \nMario brings with him over 30 years of experience from various sectors\, such as aviation\, civic\, commercial\, education\, financiers reporting\, health & aged care\, hospitality & leisure\, infrastructure\, residential/mixed use\, retail\, and sport & recreation projects.
URL:https://aicla.org/event/wa-seminar-feb24/
LOCATION:Royal Perth Golf Club\, Labouchere Rd\, SOUTH PERTH\, WA\, Australia
ATTACH;FMTTYPE=image/png:https://aicla.org/wp-content/uploads/WA-Seminar-1-1.png
END:VEVENT
BEGIN:VEVENT
DTSTART;TZID=UTC:20250214T160000
DTEND;TZID=UTC:20250214T180000
DTSTAMP:20260420T161048
CREATED:20250121T012543Z
LAST-MODIFIED:20250131T023521Z
UID:37899-1739548800-1739556000@aicla.org
SUMMARY:SA/NT Seminar & Networking
DESCRIPTION:  \nProudly sponsored by: \n  \n \n 
URL:https://aicla.org/event/sa-seminar-feb25/
LOCATION:The Historian Hotel\, 18 Coromandel Place\, Adelaide\, SA\, 5000
ATTACH;FMTTYPE=image/png:https://aicla.org/wp-content/uploads/SA-Seminar-2-1.png
END:VEVENT
BEGIN:VEVENT
DTSTART;TZID=UTC:20250227T173000
DTEND;TZID=UTC:20250227T203000
DTSTAMP:20260420T161048
CREATED:20250122T042128Z
LAST-MODIFIED:20250226T043549Z
UID:37915-1740677400-1740688200@aicla.org
SUMMARY:QLD Networking Event
DESCRIPTION:We welcome members and guests to join us for our first event of 2025! \nTickets include canapés and a three hour drinks package\, and an excellent opportunity to mix in a relaxed\, social environment. \nDress code: smart casual \nOur thanks to sponsors:\n  \nPlatinum: \n  \n \n  \nGold: \n  \n \n  \n \n  \n \n  \n 
URL:https://aicla.org/event/qld-networking-event/
LOCATION:The Heritage Room\, Cloudland\, 641 Ann St\, Fortitude Valley\, QLD\, 4006\, Australia
ATTACH;FMTTYPE=image/png:https://aicla.org/wp-content/uploads/QLD-Networking-1-1.png
END:VEVENT
END:VCALENDAR