BEGIN:VCALENDAR
VERSION:2.0
PRODID:-//AICLA - ECPv6.15.17.1//NONSGML v1.0//EN
CALSCALE:GREGORIAN
METHOD:PUBLISH
X-WR-CALNAME:AICLA
X-ORIGINAL-URL:https://aicla.org
X-WR-CALDESC:Events for AICLA
REFRESH-INTERVAL;VALUE=DURATION:PT1H
X-Robots-Tag:noindex
X-PUBLISHED-TTL:PT1H
BEGIN:VTIMEZONE
TZID:Australia/Perth
BEGIN:STANDARD
TZOFFSETFROM:+0800
TZOFFSETTO:+0800
TZNAME:AWST
DTSTART:20240101T000000
END:STANDARD
END:VTIMEZONE
BEGIN:VTIMEZONE
TZID:UTC
BEGIN:STANDARD
TZOFFSETFROM:+0000
TZOFFSETTO:+0000
TZNAME:UTC
DTSTART:20240101T000000
END:STANDARD
END:VTIMEZONE
BEGIN:VTIMEZONE
TZID:Australia/Sydney
BEGIN:STANDARD
TZOFFSETFROM:+1100
TZOFFSETTO:+1000
TZNAME:AEST
DTSTART:20240406T160000
END:STANDARD
BEGIN:DAYLIGHT
TZOFFSETFROM:+1000
TZOFFSETTO:+1100
TZNAME:AEDT
DTSTART:20241005T160000
END:DAYLIGHT
BEGIN:STANDARD
TZOFFSETFROM:+1100
TZOFFSETTO:+1000
TZNAME:AEST
DTSTART:20250405T160000
END:STANDARD
BEGIN:DAYLIGHT
TZOFFSETFROM:+1000
TZOFFSETTO:+1100
TZNAME:AEDT
DTSTART:20251004T160000
END:DAYLIGHT
BEGIN:STANDARD
TZOFFSETFROM:+1100
TZOFFSETTO:+1000
TZNAME:AEST
DTSTART:20260404T160000
END:STANDARD
BEGIN:DAYLIGHT
TZOFFSETFROM:+1000
TZOFFSETTO:+1100
TZNAME:AEDT
DTSTART:20261003T160000
END:DAYLIGHT
END:VTIMEZONE
BEGIN:VEVENT
DTSTART;TZID=Australia/Perth:20250307T113000
DTEND;TZID=Australia/Perth:20250307T143000
DTSTAMP:20260420T181853
CREATED:20250131T002813Z
LAST-MODIFIED:20250226T010739Z
UID:38075-1741347000-1741357800@aicla.org
SUMMARY:WA IWD Luncheon
DESCRIPTION:The WA Division are proud to announce the second annual International Women’s Day Luncheon for 2025. The luncheon will include a panel discussion from four highly regarded women from the insurance industry to discuss this years’ IWD theme: March Forward; It’s time to turn promises into progress. Our panel for 2025 will showcase more than 76 years of combined industry experience\, including Chelsey Harris (Regional Director – EBM Insurance Brokers and NIBA WA Broker of the Year 2024)\, Michelle Fry (Head of Commercial Underwriting – QBE Insurance)\, Nadine Van Wyk (Business Development Manager – Crawford & Company) and Lotana Robati (National Claims Manager – Construct Services). \nPlease contact the WA division directly if you have any queries: WAdiv@aicla.org  \nSpecial thanks to our sponsors:  \n  \nPlatinum \n \n  \nGold \n \n \n 
URL:https://aicla.org/event/wa-division-international-womens-day-luncheon/
LOCATION:The Duxton Hotel\, 1 St Georges Terrace\, Perth\, WA\, Australia
ATTACH;FMTTYPE=image/png:https://aicla.org/wp-content/uploads/WA-IWD.png
END:VEVENT
BEGIN:VEVENT
DTSTART;TZID=UTC:20250313T180000
DTEND;TZID=UTC:20250313T210000
DTSTAMP:20260420T181853
CREATED:20250219T004638Z
LAST-MODIFIED:20250312T005547Z
UID:38420-1741888800-1741899600@aicla.org
SUMMARY:VIC Networking Event
DESCRIPTION:Join us for AICLA Victoria’s premier networking event: \n Let the Games Begin! \nThis is your chance to connect with loss adjusters and industry professionals in a relaxed and engaging setting. Step away from the boardroom and into a fun\, interactive environment featuring games\, great food\, and quality networking opportunities. \n  \nWhat to Expect: \n✔️ Interactive games including darts\, shuffleboard\, and table tennis \n✔️ Premium food and drinks throughout the night \n✔️ Networking with key industry professionals \n✔️ A relaxed and engaging atmosphere to foster new connections \n  \nTicket Pricing: \n️ AICLA Members: $45 \n️ Non-Members: $80 \n  \nYour Ticket Includes: \nAccess to all event activities and games \nFood and drinks for the evening \nA chance to connect with top professionals in the industry \n  \nOur thanks to sponsors: \n  \n \n \n \n  \n \n  \n \n  \n \n \n \n  \n \n  \n \n  \n Limited spots available – secure your ticket today! \n 
URL:https://aicla.org/event/let-the-games-begin/
LOCATION:Ballers Clubhouse\, 2 Coverlid Pl\, Melbourne\, VIC\, 3000\, Australia
ATTACH;FMTTYPE=image/png:https://aicla.org/wp-content/uploads/VIC-Networking.png
END:VEVENT
BEGIN:VEVENT
DTSTART;TZID=UTC:20250325T123000
DTEND;TZID=UTC:20250325T170000
DTSTAMP:20260420T181853
CREATED:20250210T223741Z
LAST-MODIFIED:20250324T224534Z
UID:38304-1742905800-1742922000@aicla.org
SUMMARY:Tasmania Seminar
DESCRIPTION:AICLA Tasmania Division presents the second of our mini-seminars: \nManaging Third Party Property Damage Claims\nPresented by: \n \nAICLA CPD: 2 Points\n  \nOur thanks to sponsors: \nPlatinum: \n \nGold: \n  \n \n  \n \n  \nSilver: \n 
URL:https://aicla.org/event/tas-seminar/
LOCATION:Derwent Room\, AICD\, Level 4/85 Macquarie St\, HOBART\, TAS\, 7000\, Australia
ATTACH;FMTTYPE=image/png:https://aicla.org/wp-content/uploads/TAS-Seminar.png
END:VEVENT
BEGIN:VEVENT
DTSTART;TZID=Australia/Sydney:20250327T120000
DTEND;TZID=Australia/Sydney:20250327T130000
DTSTAMP:20260420T181853
CREATED:20250305T032248Z
LAST-MODIFIED:20250326T210918Z
UID:38744-1743076800-1743080400@aicla.org
SUMMARY:General Average Webinar
DESCRIPTION:You are invited to join us for an online education seminar via Microsoft Teams\, organised by the NSW Division. \nEver wondered what happens when a large vessel is in trouble and requires rescue and salvage operations? Who organises it? Who pays? And why? Welcome to the world of General Average.  \nNaraya Lamart and Joseph Nicholls from Wotton + Kearney will explore declarations of General Average in the world of marine casualties. \nThe presentation will include a brief overview of the legal framework that governs shipowners and cargo interests’ obligations when a general average is declared\, before diving into what happens on the ground during a general average incident. \nWe will review case studies of some recent events including the Evergiven/Suez Canal and the catastrophic MV Dail/Baltimore Bridge incidents. \nThere is no cost to join the webinar\, to be held at 12pm Sydney time on 27 March.  \nRegister below to secure your spot! \nAICLA CPD: 1 Point
URL:https://aicla.org/event/general-average-webinar/
LOCATION:VIC
ATTACH;FMTTYPE=image/png:https://aicla.org/wp-content/uploads/NSW-Webinar-3.png
END:VEVENT
BEGIN:VEVENT
DTSTART;TZID=Australia/Sydney:20250327T173000
DTEND;TZID=Australia/Sydney:20250327T203000
DTSTAMP:20260420T181853
CREATED:20250226T012134Z
LAST-MODIFIED:20250324T024757Z
UID:38568-1743096600-1743107400@aicla.org
SUMMARY:NSW/ACT Networking Event
DESCRIPTION:The first networking event of 2025 for the AICLA NSW/ACT Division will be held on Thursday 27 March. \nTickets include canapés and beverages\, and a great opportunity to network with fellow adjusters and industry professionals. \nFirst release tickets are for AICLA members only. \nNumbers are strictly limited; early registration is recommended. \nOur thanks to sponsors:\n 
URL:https://aicla.org/event/nsw-networking-2025/
LOCATION:PJ O’Brien’s Irish Pub\, 57 King St\, Sydney\, NSW\, 2000\, Australia
ATTACH;FMTTYPE=image/png:https://aicla.org/wp-content/uploads/NSW-Networking-2.png
END:VEVENT
END:VCALENDAR