BEGIN:VCALENDAR
VERSION:2.0
PRODID:-//AICLA - ECPv6.15.17.1//NONSGML v1.0//EN
CALSCALE:GREGORIAN
METHOD:PUBLISH
X-ORIGINAL-URL:https://aicla.org
X-WR-CALDESC:Events for AICLA
REFRESH-INTERVAL;VALUE=DURATION:PT1H
X-Robots-Tag:noindex
X-PUBLISHED-TTL:PT1H
BEGIN:VTIMEZONE
TZID:UTC
BEGIN:STANDARD
TZOFFSETFROM:+0000
TZOFFSETTO:+0000
TZNAME:UTC
DTSTART:20240101T000000
END:STANDARD
END:VTIMEZONE
BEGIN:VTIMEZONE
TZID:Asia/Tokyo
BEGIN:STANDARD
TZOFFSETFROM:+0900
TZOFFSETTO:+0900
TZNAME:JST
DTSTART:20240101T000000
END:STANDARD
END:VTIMEZONE
BEGIN:VTIMEZONE
TZID:Australia/Perth
BEGIN:STANDARD
TZOFFSETFROM:+0800
TZOFFSETTO:+0800
TZNAME:AWST
DTSTART:20240101T000000
END:STANDARD
END:VTIMEZONE
BEGIN:VTIMEZONE
TZID:Asia/Ho_Chi_Minh
BEGIN:STANDARD
TZOFFSETFROM:+0700
TZOFFSETTO:+0700
TZNAME:+07
DTSTART:20240101T000000
END:STANDARD
END:VTIMEZONE
BEGIN:VTIMEZONE
TZID:Asia/Jakarta
BEGIN:STANDARD
TZOFFSETFROM:+0700
TZOFFSETTO:+0700
TZNAME:WIB
DTSTART:20240101T000000
END:STANDARD
END:VTIMEZONE
BEGIN:VTIMEZONE
TZID:Australia/Adelaide
BEGIN:STANDARD
TZOFFSETFROM:+1030
TZOFFSETTO:+0930
TZNAME:ACST
DTSTART:20240406T163000
END:STANDARD
BEGIN:DAYLIGHT
TZOFFSETFROM:+0930
TZOFFSETTO:+1030
TZNAME:ACDT
DTSTART:20241005T163000
END:DAYLIGHT
BEGIN:STANDARD
TZOFFSETFROM:+1030
TZOFFSETTO:+0930
TZNAME:ACST
DTSTART:20250405T163000
END:STANDARD
BEGIN:DAYLIGHT
TZOFFSETFROM:+0930
TZOFFSETTO:+1030
TZNAME:ACDT
DTSTART:20251004T163000
END:DAYLIGHT
BEGIN:STANDARD
TZOFFSETFROM:+1030
TZOFFSETTO:+0930
TZNAME:ACST
DTSTART:20260404T163000
END:STANDARD
BEGIN:DAYLIGHT
TZOFFSETFROM:+0930
TZOFFSETTO:+1030
TZNAME:ACDT
DTSTART:20261003T163000
END:DAYLIGHT
END:VTIMEZONE
BEGIN:VEVENT
DTSTART;TZID=UTC:20250501T170000
DTEND;TZID=UTC:20250501T210000
DTSTAMP:20260421T002619
CREATED:20250415T005355Z
LAST-MODIFIED:20250415T010200Z
UID:39805-1746118800-1746133200@aicla.org
SUMMARY:AICLA SA\, AILA & NIBA Networking Drinks
DESCRIPTION:Join AILA\, AICLA (SA/NT) & NIBA for an evening of networking and camaraderie. Whether you’re looking to expand your business connections\, seek career opportunities\, or end the work day with a drink in hand\, this event promises an enjoyable atmosphere and valuable networking opportunities. Don’t miss out on an evening of great conversations\, tasty bites\, and fruitful connections! \n  \nTickets: \nMembers $45 \nNon-members $65 \n  \nProudly supported by: \n  \n \n  \n \n\n  \n➡️ Click here to register at aila.com.au
URL:https://aicla.org/event/sa-networking-25/
LOCATION:Electra House\, 131 King William St\, Adelaide\, SA\, 5000\, Australia
ATTACH;FMTTYPE=image/png:https://aicla.org/wp-content/uploads/SA.png
END:VEVENT
BEGIN:VEVENT
DTSTART;VALUE=DATE:20250513
DTEND;VALUE=DATE:20250516
DTSTAMP:20260421T002619
CREATED:20241112T002919Z
LAST-MODIFIED:20250501T073824Z
UID:36978-1747094400-1747353599@aicla.org
SUMMARY:Asian Claims Convention 2025
DESCRIPTION:Following the highly successful 2024 Asian Claims Convention in Kuala Lumpur\, ACC25 will be held in Osaka Japan. \nThemed ‘Traditional Claims Management in a Digital Age’\, ACC25 will include a Cocktail Function\, two day Convention and Gala Dinner. \nThe event offers an unmatched opportunity to develop and enhance relationships and share insights from leading professionals from a wide range of fields. \nClick here for the registration brochure including speakers and topics\nCocktail function: Tuesday 13 May\, 6 – 8pm \nGala dinner: Wednesday 14 May\, 6.30 – 10.30pm \nWho Should Attend\nProfessionals engaged in the insurance industry\, particularly in the area of claims including senior insurance company managers\, brokers\, re-insurers\, loss adjusters\, professional consultants\, insurance lawyers\, suppliers and service providers. \nVenue & Accommodation\n\n\n\n\nThe convention venue is the five-star Hilton Osaka Hotel\, located in the commercial and shopping district around Umeda Station and Grand Front Osaka Shopping Mall. \nThe accommodation rate includes breakfast and all taxes and charges. Complimentary wifi is provided. \nTo reserve your conference accommodation at the Hilton Osaka Hotel please click here. \n\n\n\n\nAICLA CPD: 10 Points\n\nWith thanks to sponsors:\nGold: \n  \n \n  \n \n  \n \n  \n \n  \n \n  \n \n  \nKeynote: \n  \n \n  \nSatchel: \n  \n \n  \nSupporting: \n  \n \n  \n \nIn partnership with:\n  \n      \n  \n       \n  \n         \n  \n         \n 
URL:https://aicla.org/event/acc25/
LOCATION:Hilton Osaka Hotel\, 8-8\, Umeda 1-chome\, Kita-ku\, Osaka\, 27 530-0001\, Japan
ATTACH;FMTTYPE=image/jpeg:https://aicla.org/wp-content/uploads/ACC25-Event-Tile.jpg
END:VEVENT
BEGIN:VEVENT
DTSTART;TZID=Australia/Perth:20250515T073000
DTEND;TZID=Australia/Perth:20250515T093000
DTSTAMP:20260421T002619
CREATED:20250226T053813Z
LAST-MODIFIED:20250430T010339Z
UID:38589-1747294200-1747301400@aicla.org
SUMMARY:WA Breakfast Seminar
DESCRIPTION:Join the AICLA WA Division for an educational seminar: \nAutomation & Robotics\nDevelopments and trends in Automation with reference to vehicles\, wineries\, manufacturing and uber and Robotics with reference to cyber\, liability and AI. \nPresented by Steve Cratchley\, Insights & Operations Manager\, Suncorp \nSteve Cratchley is a specialist in emerging risks with a strong focus on advanced automotive technologies\, with extensive experience in researching and presenting on these topics. Globally connected in various emerging risk domains\, Steve is passionate about understanding and mitigating new threats to the insurance industry\, sharing his valuable insights with colleagues across all areas at Suncorp and the industry more broadly. He has presented at conferences in Australia\, New Zealand and hosted round tables in the US\, EU and UK as well as appearing in a few Podcasts. \nSteve has been with Suncorp for 20 years\, with roles across Pricing\, Strategy\, Innovation\, Underwriting and Portfolio. Steve has represented Suncorp in leadership positions on industry bodies and contributed to numerous research projects. Steve’s input is also used on Suncorp’s Emerging Risks Committee\, leveraging his expertise to navigate the evolving landscape and its impacts to the insurance industry.
URL:https://aicla.org/event/wa-seminar-may25/
LOCATION:Royal Perth Golf Club\, Labouchere Rd\, SOUTH PERTH\, WA\, Australia
ATTACH;FMTTYPE=image/png:https://aicla.org/wp-content/uploads/Copy-of-WA-Seminar-5.png
END:VEVENT
BEGIN:VEVENT
DTSTART;TZID=UTC:20250519T123000
DTEND;TZID=UTC:20250519T143000
DTSTAMP:20260421T002619
CREATED:20250402T001537Z
LAST-MODIFIED:20250513T234806Z
UID:39608-1747657800-1747665000@aicla.org
SUMMARY:Hong Kong Members' Meeting
DESCRIPTION:Members and guests are invited to attend a special and free-of-charge meeting which provides:  \n✅ A chance to meet with Nicholas Ackers (President) and Adrian Libke (Chief Executive); \n✅ An update on AICLA activities\, information on the Diploma of Loss Adjusting\, membership pathways and future plans; \n✅ A PD presentation by Nicholas Ackers: “When a contract works claim turns into a property developers’ nightmare”\, and \n✅ A three-course luncheon and opportunity to network with fellow industry professionals. \nAICLA CPD: 2 Points\nThe meeting is open to all members and any industry colleagues that are interested in learning about AICLA\, and promises to be an enjoyable and valuable occasion. \nPlease register below by 15 May.
URL:https://aicla.org/event/hk-meeting-2025/
LOCATION:Novotel Century Hong Kong\, 238 Jaffe Road\, Wan Chai\, Hong Kong
ATTACH;FMTTYPE=image/png:https://aicla.org/wp-content/uploads/hong-kong.png
END:VEVENT
BEGIN:VEVENT
DTSTART;TZID=Asia/Ho_Chi_Minh:20250521T173000
DTEND;TZID=Asia/Ho_Chi_Minh:20250521T203000
DTSTAMP:20260421T002619
CREATED:20250402T001110Z
LAST-MODIFIED:20250519T231633Z
UID:39607-1747848600-1747859400@aicla.org
SUMMARY:Vietnam Members' Meeting
DESCRIPTION:Members and guests are invited to attend a special and free-of-charge meeting which provides:  \n✅ A chance to meet with Nicholas Ackers (President)\, Adrian Libke (Chief Executive)\, and Andrew Khoo (International Division Chair); \n✅ An update on AICLA activities\, information on the Diploma of Loss Adjusting\, membership pathways and future plans; \n✅ A PD presentation by Nicholas Ackers: “When a contract works claim turns into a property developers’ nightmare”\, and \n✅ Dinner and networking with fellow industry professionals. \nAICLA CPD: 2 Points\nThe meeting is open to all members and any industry colleagues that are interested in learning about AICLA\, and promises to be an enjoyable and valuable evening.
URL:https://aicla.org/event/vietnam-meeting-2025/
LOCATION:Sofitel Saigon Plaza\, 17 Đ. Lê Duẩn\, Bến Nghé\, Quận 1\, Thành phố\, Hồ Chí Minh\, 700000\, Viet Nam
ATTACH;FMTTYPE=image/png:https://aicla.org/wp-content/uploads/vietnam.png
END:VEVENT
BEGIN:VEVENT
DTSTART;TZID=UTC:20250523T120000
DTEND;TZID=UTC:20250523T140000
DTSTAMP:20260421T002619
CREATED:20250402T002153Z
LAST-MODIFIED:20250521T064643Z
UID:39609-1748001600-1748008800@aicla.org
SUMMARY:Singapore Members' Meeting
DESCRIPTION:Members and guests are invited to attend a special and free-of-charge meeting which provides:  \n✅ A chance to meet with Nicholas Ackers (President) and Adrian Libke (Chief Executive); \n✅ An update on AICLA activities\, information on the Diploma of Loss Adjusting\, membership pathways and future plans; \n✅ A PD presentation by Nicholas Ackers: “When a contract works claim turns into a property developers’ nightmare”\, and \n✅ Lunch provided\, and opportunity to network with fellow industry professionals. \nAICLA CPD: 2 Points\nThe meeting is open to all members and any industry colleagues that are interested in learning about AICLA\, and promises to be an enjoyable and valuable occasion.
URL:https://aicla.org/event/singapore-meeting-2025/
LOCATION:Amara Singapore\, 165 Tg Pagar Rd\, Singapore\, 088539
ATTACH;FMTTYPE=image/png:https://aicla.org/wp-content/uploads/singapore-2.png
END:VEVENT
BEGIN:VEVENT
DTSTART;TZID=Asia/Jakarta:20250526T100000
DTEND;TZID=Asia/Jakarta:20250526T133000
DTSTAMP:20260421T002619
CREATED:20250402T002628Z
LAST-MODIFIED:20260401T013206Z
UID:39610-1748253600-1748266200@aicla.org
SUMMARY:Jakarta Members' Meeting
DESCRIPTION:Members and guests are invited to attend a special and free-of-charge meeting which provides:  \n✅ A chance to meet with Nicholas Ackers (President)\, Adrian Libke (Chief Executive)\, and Andrew Khoo (International Division Chair); \n✅ An update on AICLA activities\, information on the Diploma of Loss Adjusting\, membership pathways and future plans; \n✅ A PD presentation by Nicholas Ackers: “When a contract works claim turns into a property developers’ nightmare”\, and \n✅ Lunch and networking with fellow industry professionals. \nAICLA CPD: 2 Points\nThe meeting is open to all members and any industry colleagues that are interested in learning about AICLA\, and promises to be an enjoyable and valuable occasion. \nPlease register (below) by 22 May.
URL:https://aicla.org/event/jakarta-meeting-2025/
LOCATION:Hotel Fairmont Jakarta\, Jl. Asia Afrika No.8\, Senayan\, Kecamatan Tanah Abang\, Kota Jakarta Pusat\, Daerah Khusus Ibukota\, Jakarta\, 10270\, Indonesia
ATTACH;FMTTYPE=image/png:https://aicla.org/wp-content/uploads/JAKARTA-1.png
END:VEVENT
BEGIN:VEVENT
DTSTART;TZID=UTC:20250529T170000
DTEND;TZID=UTC:20250529T200000
DTSTAMP:20260421T002619
CREATED:20250402T010853Z
LAST-MODIFIED:20250513T234720Z
UID:39611-1748538000-1748548800@aicla.org
SUMMARY:Kuala Lumpur Members' Meeting
DESCRIPTION:Members and guests are invited to attend a special and free-of-charge meeting which provides:  \n✅ A chance to meet with Nicholas Ackers (President)\, Adrian Libke (Chief Executive)\, and Andrew Khoo (International Division Chair); \n✅ An update on AICLA activities\, information on the Diploma of Loss Adjusting\, membership pathways and future plans; \n✅ A PD presentation by Nicholas Ackers: “When a contract works claim turns into a property developers’ nightmare”\, and \n✅ Dinner and networking with fellow industry professionals. \nAICLA CPD: 2 Points\nThe meeting is open to all members and any industry colleagues that are interested in learning about AICLA\, and promises to be an enjoyable and valuable evening. \nPlease register (below) by 26 May.
URL:https://aicla.org/event/kl-meeting-2025/
LOCATION:Berjaya Times Square\, No. 1\, Jalan Imbi\, Kuala Lumpur\, Malaysia
ATTACH;FMTTYPE=image/png:https://aicla.org/wp-content/uploads/KL-1.png
END:VEVENT
BEGIN:VEVENT
DTSTART;TZID=Australia/Adelaide:20250530T160000
DTEND;TZID=Australia/Adelaide:20250530T200000
DTSTAMP:20260421T002619
CREATED:20250513T012816Z
LAST-MODIFIED:20250513T013133Z
UID:40385-1748620800-1748635200@aicla.org
SUMMARY:AICLA & YIPs Seminar
DESCRIPTION:YIPs SA & AICLA SA/NT Presents: \nCovered or Excluded – What Would Wayne Tank Do?\nDon’t miss this session with Dr. Mark Giancaspro as he unpacks the Wayne Tank Principles and their impact on claims. \nDr. Giancaspro will also delve into recent case law and key AFCA decisions\, offering insights you won’t want to miss! \nTickets: \nMembers: $20 \nNon-Members: $40 \nClick here to register
URL:https://aicla.org/event/aicla-yips-seminar/
LOCATION:The Historian Hotel\, 18 Coromandel Place\, Adelaide\, SA\, 5000
ATTACH;FMTTYPE=image/png:https://aicla.org/wp-content/uploads/YIPS-SA-1.png
END:VEVENT
END:VCALENDAR