BEGIN:VCALENDAR
VERSION:2.0
PRODID:-//AICLA - ECPv6.15.17.1//NONSGML v1.0//EN
CALSCALE:GREGORIAN
METHOD:PUBLISH
X-WR-CALNAME:AICLA
X-ORIGINAL-URL:https://aicla.org
X-WR-CALDESC:Events for AICLA
REFRESH-INTERVAL;VALUE=DURATION:PT1H
X-Robots-Tag:noindex
X-PUBLISHED-TTL:PT1H
BEGIN:VTIMEZONE
TZID:UTC
BEGIN:STANDARD
TZOFFSETFROM:+0000
TZOFFSETTO:+0000
TZNAME:UTC
DTSTART:20240101T000000
END:STANDARD
END:VTIMEZONE
BEGIN:VTIMEZONE
TZID:Australia/Adelaide
BEGIN:STANDARD
TZOFFSETFROM:+1030
TZOFFSETTO:+0930
TZNAME:ACST
DTSTART:20240406T163000
END:STANDARD
BEGIN:DAYLIGHT
TZOFFSETFROM:+0930
TZOFFSETTO:+1030
TZNAME:ACDT
DTSTART:20241005T163000
END:DAYLIGHT
BEGIN:STANDARD
TZOFFSETFROM:+1030
TZOFFSETTO:+0930
TZNAME:ACST
DTSTART:20250405T163000
END:STANDARD
BEGIN:DAYLIGHT
TZOFFSETFROM:+0930
TZOFFSETTO:+1030
TZNAME:ACDT
DTSTART:20251004T163000
END:DAYLIGHT
BEGIN:STANDARD
TZOFFSETFROM:+1030
TZOFFSETTO:+0930
TZNAME:ACST
DTSTART:20260404T163000
END:STANDARD
BEGIN:DAYLIGHT
TZOFFSETFROM:+0930
TZOFFSETTO:+1030
TZNAME:ACDT
DTSTART:20261003T163000
END:DAYLIGHT
END:VTIMEZONE
BEGIN:VTIMEZONE
TZID:Australia/Sydney
BEGIN:STANDARD
TZOFFSETFROM:+1100
TZOFFSETTO:+1000
TZNAME:AEST
DTSTART:20240406T160000
END:STANDARD
BEGIN:DAYLIGHT
TZOFFSETFROM:+1000
TZOFFSETTO:+1100
TZNAME:AEDT
DTSTART:20241005T160000
END:DAYLIGHT
BEGIN:STANDARD
TZOFFSETFROM:+1100
TZOFFSETTO:+1000
TZNAME:AEST
DTSTART:20250405T160000
END:STANDARD
BEGIN:DAYLIGHT
TZOFFSETFROM:+1000
TZOFFSETTO:+1100
TZNAME:AEDT
DTSTART:20251004T160000
END:DAYLIGHT
BEGIN:STANDARD
TZOFFSETFROM:+1100
TZOFFSETTO:+1000
TZNAME:AEST
DTSTART:20260404T160000
END:STANDARD
BEGIN:DAYLIGHT
TZOFFSETFROM:+1000
TZOFFSETTO:+1100
TZNAME:AEDT
DTSTART:20261003T160000
END:DAYLIGHT
END:VTIMEZONE
BEGIN:VEVENT
DTSTART;TZID=UTC:20250904T073000
DTEND;TZID=UTC:20250904T093000
DTSTAMP:20260421T070331
CREATED:20250523T034222Z
LAST-MODIFIED:20250730T060703Z
UID:40747-1756971000-1756978200@aicla.org
SUMMARY:WA Breakfast Seminar
DESCRIPTION:Join the AICLA WA Division for an educational seminar. \nStacey Ravono of IAG will present: \nUnderinsurance\nPart 2: From an Insurer’s Perspective\nHow insurers look at underinsurance and the implications on their policy holder once it has been raised by the loss adjuster(s). \nStacey Ravono has worked as a Commercial Claims Specialist for IAG for almost 15 years including the last 4 years in managing Complex and Specialty claims for IAG brands including CGU and WFI. Stacey is also involved in mentoring and developing technical abilities in younger staff at IAG. \nShe brings her vast experience in managing commercial claims to help us understand how Insurers may interpret and apply underinsurance provisions following the receipt of a loss adjusters report. \nAICLA CPD: 1 Point
URL:https://aicla.org/event/wa-bfastsem-sep25/
LOCATION:Royal Perth Golf Club\, Labouchere Rd\, SOUTH PERTH\, WA\, Australia
ATTACH;FMTTYPE=image/png:https://aicla.org/wp-content/uploads/WA-Seminar-Sep.png
END:VEVENT
BEGIN:VEVENT
DTSTART;TZID=Australia/Adelaide:20250911T083000
DTEND;TZID=Australia/Adelaide:20250911T173000
DTSTAMP:20260421T070331
CREATED:20250506T042501Z
LAST-MODIFIED:20250903T044140Z
UID:40128-1757579400-1757611800@aicla.org
SUMMARY:SA/NT Conference
DESCRIPTION:The inaugural AICLA SA/NT Back to Basics Conference will be held on Thursday 11 September at the Adelaide Convention Centre. \nThis full-day conference will provide an invaluable platform for claims industry professionals to gain insights from a diverse range of speakers and demonstrations. \nFeaturing topics: \n– Loss Adjuster 101: What do they do? Who do they act for? Why do we need them? What do they need to know? How do I become one? \n– The Claims Process: How Loss Adjusters\, Brokers\, Insurers and Suppliers work together \n– Back to Basics for Building: The National Construction Code; Waterproofing \n– Fraud & Investigation: Red flags to look for and learn some tips and tricks from a Private Investigator \n– The Importance of Context: Keynote speaker\, Brett Rutledge \n  \nOur thanks to sponsors: \nPalladium: \n  \n \n  \nPlatinum: \n  \n \n  \n \nGold: \n  \n \n  \n \n  \n \n  \nSilver: \n  \n \n  \n \n  \n \n  \nBronze: \n  \n  \n  \n \n  \n \n 
URL:https://aicla.org/event/sa-claims-convention-25/
LOCATION:Adelaide Convention Centre\, North Terrace\, Adelaide\, SA\, 5000\, Australia
ATTACH;FMTTYPE=image/png:https://aicla.org/wp-content/uploads/SA-Conference.png
END:VEVENT
BEGIN:VEVENT
DTSTART;TZID=UTC:20250917T080000
DTEND;TZID=UTC:20250917T203000
DTSTAMP:20260421T070331
CREATED:20250122T063546Z
LAST-MODIFIED:20250910T211130Z
UID:37940-1758096000-1758141000@aicla.org
SUMMARY:AICLA/ANZIIF Claims Convention
DESCRIPTION:New Frontiers & Disruptions in Claims\nThis year marks the 18th Claims Convention\, a highly successful collaboration between AICLA and ANZIIF. \nThe AICLA/ANZIIF Claims Convention is the leading insurance claims event in Australasia\, attracting industry experts and world-class speakers. With over 350 attendees last year\, we expect strong demand again in 2025. \n\n\nWith claims under increasing scrutiny\, CC25 is designed to give professionals the insights and knowledge they need to tackle the key issues facing the insurance sector both now and into the future. \n\nClick here for the registration brochure including speakers & topics\n\n\n\n\nYour ticket includes all convention sessions\, access to the exhibition\, convention app\, handouts\, lunch\, morning and afternoon tea\, plus three-hour cocktail function. \nAttractive discounts are available for registrations of five or more from one organisation. \n\n\n\n\nProfessional Development\nANZIIF: 6 CIP Points \n\n\nAICLA: 6 CPD Points \nSponsors\nPlatinum: \n\n \nGold:\n \n \n  \nSilver: \n  \n \n  \n \n  \n \n  \n \n  \n  \n \n  \n \n \n  \n \n  \n \n  \nCocktail: \n  \n \n  \nSpeaker Gift: \n  \n \n  \nSatchel: \n  \n \n  \nApp: \n  \n \n  \nWifi: \n  \n \n  \nLunch: \n  \n \n  \nMorning Tea: \n \nSupport: \n  \n \n 
URL:https://aicla.org/event/cc25/
LOCATION:Hilton Sydney\, 488 George St\, Sydney\, NSW\, 2000\, Australia
ATTACH;FMTTYPE=image/jpeg:https://aicla.org/wp-content/uploads/CC25-AICLA-Event-Tile.jpg
END:VEVENT
BEGIN:VEVENT
DTSTART;TZID=Australia/Sydney:20250925T100000
DTEND;TZID=Australia/Sydney:20250925T110000
DTSTAMP:20260421T070331
CREATED:20250819T013444Z
LAST-MODIFIED:20250820T010525Z
UID:43000-1758794400-1758798000@aicla.org
SUMMARY:Basis of Settlement Webinar
DESCRIPTION:You are invited to join us for an online education seminar via Microsoft Teams\, organised by the NSW Division. \nJonathan Liberis and Joshua Black from Wotton + Kearney will focus on one of the most critical and frequently contested aspects of claims – the Basis of Settlement. \nThe session will cover:\n– The foundational principles surrounding basis of settlement in property disputes.\n– Emerging trends in this area.\n– Practical advice to navigate disputes effectively. \nThere is no cost to join the webinar\, to be held at 10am Sydney time on 25 September. \nAICLA CPD: 1 Point \nTo add this event to your calendar click here\n  \nor click here to join the meeting at the scheduled time \nMeeting ID: 231 194 820 100 3 \nPasscode: Vv9dH94r
URL:https://aicla.org/event/webinar-sep25/
LOCATION:VIC
ATTACH;FMTTYPE=image/png:https://aicla.org/wp-content/uploads/NSW-Webinar-Web.png
END:VEVENT
END:VCALENDAR