BEGIN:VCALENDAR
VERSION:2.0
PRODID:-//AICLA - ECPv6.15.17.1//NONSGML v1.0//EN
CALSCALE:GREGORIAN
METHOD:PUBLISH
X-WR-CALNAME:AICLA
X-ORIGINAL-URL:https://aicla.org
X-WR-CALDESC:Events for AICLA
REFRESH-INTERVAL;VALUE=DURATION:PT1H
X-Robots-Tag:noindex
X-PUBLISHED-TTL:PT1H
BEGIN:VTIMEZONE
TZID:Australia/Brisbane
BEGIN:STANDARD
TZOFFSETFROM:+1000
TZOFFSETTO:+1000
TZNAME:AEST
DTSTART:20240101T000000
END:STANDARD
END:VTIMEZONE
BEGIN:VTIMEZONE
TZID:UTC
BEGIN:STANDARD
TZOFFSETFROM:+0000
TZOFFSETTO:+0000
TZNAME:UTC
DTSTART:20240101T000000
END:STANDARD
END:VTIMEZONE
BEGIN:VEVENT
DTSTART;TZID=Australia/Brisbane:20251114T120000
DTEND;TZID=Australia/Brisbane:20251114T170000
DTSTAMP:20260421T111615
CREATED:20250305T043656Z
LAST-MODIFIED:20251021T020453Z
UID:35718-1763121600-1763139600@aicla.org
SUMMARY:QLD End of Year Luncheon
DESCRIPTION:The AICLA Queensland Division End of Year Luncheon is an opportunity for members\, retired members and guests to join together in a social environment to reflect on the past year and plan for the year ahead. \nYour ticket includes a three-course lunch and five-hour drinks package. \nTables can be reserved in groups of 8. \nWho Should Attend:\nMembers\, retired members\, diary advertisers and industry colleagues. \nWith thanks to sponsors:\nPlatinum \n  \n \nGold \n  \n \n  \n \n  \n \n  \n \n  \n \n  \n  \n \n  \n \n  \n \n \n  \n \n  \n  \n \n\nTo join the waitlist for additional tickets\, please email adminoffice@aicla.org
URL:https://aicla.org/event/qld-lunch-2025/
LOCATION:The Star Brisbane\, 33 William St\, Brisbane City\, QLD\, 4000\, Australia
ATTACH;FMTTYPE=image/png:https://aicla.org/wp-content/uploads/QLD-Lunch-2.png
END:VEVENT
BEGIN:VEVENT
DTSTART;TZID=UTC:20251119T150000
DTEND;TZID=UTC:20251119T180000
DTSTAMP:20260421T111615
CREATED:20251103T231958Z
LAST-MODIFIED:20251103T232200Z
UID:46681-1763564400-1763575200@aicla.org
SUMMARY:Tasmanian Insurance Industry Christmas Party
DESCRIPTION:Join us at the Telegraph Hotel as Tasmania’s leading insurance associations unite for the first time to celebrate the end of the year with an afternoon of networking\, festive cheer\, and industry connection. \nCost \nMembers $20.00 (AILA\, AICLA\, NIBA\, YIPS\, WII\, UAC)\nNon-Members $40.00 \nTo register please visit the AILA website.\n 
URL:https://aicla.org/event/tas-xmas-party/
LOCATION:Rooftop Bar\, Telegraph Hotel\, 19 Morrison St\, Hobart\, TAS\, Australia
ATTACH;FMTTYPE=image/png:https://aicla.org/wp-content/uploads/AILA-XMAS.png
END:VEVENT
BEGIN:VEVENT
DTSTART;TZID=UTC:20251127T080000
DTEND;TZID=UTC:20251127T100000
DTSTAMP:20260421T111615
CREATED:20251022T015702Z
LAST-MODIFIED:20251022T030117Z
UID:46472-1764230400-1764237600@aicla.org
SUMMARY:Wellington Christmas Breakfast
DESCRIPTION:The AICLA New Zealand Division are pleased to invite members to a special and free-of-charge Christmas breakfast. \nSpaces are limited – please RSVP below by 14 November.  \nWe look forward to celebrating the festive season with you!
URL:https://aicla.org/event/wellington-christmas-breakfast/
LOCATION:Seashore Cabaret\, 160 The Esplanade\, Petone\, New Zealand
ATTACH;FMTTYPE=image/png:https://aicla.org/wp-content/uploads/wellington2.png
END:VEVENT
BEGIN:VEVENT
DTSTART;TZID=UTC:20251127T080000
DTEND;TZID=UTC:20251127T100000
DTSTAMP:20260421T111615
CREATED:20251022T020245Z
LAST-MODIFIED:20251022T030113Z
UID:46473-1764230400-1764237600@aicla.org
SUMMARY:Auckland Christmas Breakfast
DESCRIPTION:The AICLA New Zealand Division are pleased to invite members to a special and free-of-charge Christmas breakfast. \nSpaces are limited – please RSVP below by 14 November.  \nWe look forward to celebrating the festive season with you!
URL:https://aicla.org/event/auckland-christmas-breakfast/
LOCATION:VIC
ATTACH;FMTTYPE=image/png:https://aicla.org/wp-content/uploads/AUCKLAND2.png
END:VEVENT
END:VCALENDAR