BEGIN:VCALENDAR
VERSION:2.0
PRODID:-//AICLA - ECPv6.15.17.1//NONSGML v1.0//EN
CALSCALE:GREGORIAN
METHOD:PUBLISH
X-WR-CALNAME:AICLA
X-ORIGINAL-URL:https://aicla.org
X-WR-CALDESC:Events for AICLA
REFRESH-INTERVAL;VALUE=DURATION:PT1H
X-Robots-Tag:noindex
X-PUBLISHED-TTL:PT1H
BEGIN:VTIMEZONE
TZID:UTC
BEGIN:STANDARD
TZOFFSETFROM:+0000
TZOFFSETTO:+0000
TZNAME:UTC
DTSTART:20240101T000000
END:STANDARD
END:VTIMEZONE
BEGIN:VTIMEZONE
TZID:Australia/Perth
BEGIN:STANDARD
TZOFFSETFROM:+0800
TZOFFSETTO:+0800
TZNAME:AWST
DTSTART:20240101T000000
END:STANDARD
END:VTIMEZONE
BEGIN:VTIMEZONE
TZID:Australia/Sydney
BEGIN:STANDARD
TZOFFSETFROM:+1100
TZOFFSETTO:+1000
TZNAME:AEST
DTSTART:20240406T160000
END:STANDARD
BEGIN:DAYLIGHT
TZOFFSETFROM:+1000
TZOFFSETTO:+1100
TZNAME:AEDT
DTSTART:20241005T160000
END:DAYLIGHT
BEGIN:STANDARD
TZOFFSETFROM:+1100
TZOFFSETTO:+1000
TZNAME:AEST
DTSTART:20250405T160000
END:STANDARD
BEGIN:DAYLIGHT
TZOFFSETFROM:+1000
TZOFFSETTO:+1100
TZNAME:AEDT
DTSTART:20251004T160000
END:DAYLIGHT
BEGIN:STANDARD
TZOFFSETFROM:+1100
TZOFFSETTO:+1000
TZNAME:AEST
DTSTART:20260404T160000
END:STANDARD
BEGIN:DAYLIGHT
TZOFFSETFROM:+1000
TZOFFSETTO:+1100
TZNAME:AEDT
DTSTART:20261003T160000
END:DAYLIGHT
END:VTIMEZONE
BEGIN:VTIMEZONE
TZID:Australia/Melbourne
BEGIN:STANDARD
TZOFFSETFROM:+1100
TZOFFSETTO:+1000
TZNAME:AEST
DTSTART:20240406T160000
END:STANDARD
BEGIN:DAYLIGHT
TZOFFSETFROM:+1000
TZOFFSETTO:+1100
TZNAME:AEDT
DTSTART:20241005T160000
END:DAYLIGHT
BEGIN:STANDARD
TZOFFSETFROM:+1100
TZOFFSETTO:+1000
TZNAME:AEST
DTSTART:20250405T160000
END:STANDARD
BEGIN:DAYLIGHT
TZOFFSETFROM:+1000
TZOFFSETTO:+1100
TZNAME:AEDT
DTSTART:20251004T160000
END:DAYLIGHT
BEGIN:STANDARD
TZOFFSETFROM:+1100
TZOFFSETTO:+1000
TZNAME:AEST
DTSTART:20260404T160000
END:STANDARD
BEGIN:DAYLIGHT
TZOFFSETFROM:+1000
TZOFFSETTO:+1100
TZNAME:AEDT
DTSTART:20261003T160000
END:DAYLIGHT
END:VTIMEZONE
BEGIN:VEVENT
DTSTART;TZID=UTC:20251202T073000
DTEND;TZID=UTC:20251202T100000
DTSTAMP:20260421T130825
CREATED:20251103T235458Z
LAST-MODIFIED:20251104T014540Z
UID:46682-1764660600-1764669600@aicla.org
SUMMARY:Tauranga Christmas Breakfast
DESCRIPTION:The AICLA New Zealand Division are pleased to invite members to a special and free-of-charge Christmas breakfast. \nSpaces are limited – please RSVP below by 14 November.  \nWe look forward to celebrating the festive season with you!
URL:https://aicla.org/event/tauranga-christmas-breakfast/
LOCATION:Alimento Eatery\, 72 First Ave\, Tauranga\, New Zealand
ATTACH;FMTTYPE=image/png:https://aicla.org/wp-content/uploads/tauranga.png
END:VEVENT
BEGIN:VEVENT
DTSTART;TZID=UTC:20251204T080000
DTEND;TZID=UTC:20251204T100000
DTSTAMP:20260421T130825
CREATED:20251022T015431Z
LAST-MODIFIED:20251022T030146Z
UID:46471-1764835200-1764842400@aicla.org
SUMMARY:Christchurch Christmas Breakfast
DESCRIPTION:The AICLA New Zealand Division are pleased to invite members to a special and free-of-charge Christmas breakfast. \nSpaces are limited – please RSVP below by 14 November.  \nWe look forward to celebrating the festive season with you!
URL:https://aicla.org/event/christchurch-christmas-breakfast/
LOCATION:Elements\, 166 Cashel Street\, Christchurch\, New Zealand
ATTACH;FMTTYPE=image/png:https://aicla.org/wp-content/uploads/christchurch.png
END:VEVENT
BEGIN:VEVENT
DTSTART;TZID=Australia/Perth:20251205T113000
DTEND;TZID=Australia/Perth:20251205T173000
DTSTAMP:20260421T130825
CREATED:20250226T063820Z
LAST-MODIFIED:20251022T225046Z
UID:38590-1764934200-1764955800@aicla.org
SUMMARY:WA Christmas Lunch
DESCRIPTION:Tickets for this event are extremely limited. Please register as soon as possible to avoid disappointment.  \nThe AICLA WA Division Christmas Lunch is a highlight on the insurance calendar in WA and an event not to be missed. \nThis year’s lunch will be held at ANZAC House\, located in St Georges Tce Perth with views over Government House gardens looking towards the Swan River. \nYour ticket includes a three-course lunch and four-hour drinks package in the fifth-floor function room\, followed by two hours of sponsored drinks in the first-floor bar. Tables will seat 10. \nWe have secured keynote speaker Steven Bradbury – 2002 Winter Olympic gold medallist\, the man who coined his own phrase “doing a Bradbury”. \nOur thanks to Sponsors:\nPlatinum \n  \n \n  \n \n  \n \n  \n \n  \n \n  \n \n  \n \n  \n  \nGold \n  \n \n  \n \n  \n \n  \n \n 
URL:https://aicla.org/event/wa-christmas-lunch-2025/
LOCATION:ANZAC House\, 28 St Georges Terrace\, Perth\, WA\, 6000\, Australia
ATTACH;FMTTYPE=image/png:https://aicla.org/wp-content/uploads/Wa-Lunch-2.png
END:VEVENT
BEGIN:VEVENT
DTSTART;TZID=Australia/Sydney:20251205T143000
DTEND;TZID=Australia/Sydney:20251205T190000
DTSTAMP:20260421T130825
CREATED:20250909T012428Z
LAST-MODIFIED:20251118T235053Z
UID:43943-1764945000-1764961200@aicla.org
SUMMARY:NSW/ACT Charity Race Day
DESCRIPTION:Our Charity Race Day is a chance to raise money for charity and network with industry colleagues before the end of the year\, whilst enjoying the Moët & Chandon Room with commanding views over the city skyline and the majestic Royal Randwick track. \nProceeds from this event will be donated to Tribal Warrior – a very worthwhile charity helping local kids and families. \n \nThere will be lots of prizes and fun throughout the day. Tickets will sell out\, so lock in the date and purchase your tickets early! \n  \nOur thanks to sponsors:\nPlatinum: \n  \n \n  \nFashions on the Field: \n \n  \n \n  \n \n  \nGold: \n  \n \n  \n \n  \n \n  \n \n  \n \n  \n 
URL:https://aicla.org/event/nsw-raceday-2025/
LOCATION:The Stables\, Randwick Racecourse\, Level 4\, Grandstand. New South Wales 2031\, Randwick\, NSW\, 2031\, Australia
ATTACH;FMTTYPE=image/jpeg:https://aicla.org/wp-content/uploads/AICLA_NSW-RD25-Web-Tile.jpg
END:VEVENT
BEGIN:VEVENT
DTSTART;TZID=Australia/Melbourne:20251211T183000
DTEND;TZID=Australia/Melbourne:20251211T233000
DTSTAMP:20260421T130825
CREATED:20250401T001558Z
LAST-MODIFIED:20251208T034948Z
UID:39555-1765477800-1765495800@aicla.org
SUMMARY:VIC Awards 2025
DESCRIPTION:Join us for the AICLA (Vic) Awards Night – The Premier Event of the Year! \nGet ready for an extraordinary evening of celebration\, recognition\, and connection as the insurance claims industry gathers for its most anticipated night of the year. \nThe AICLA (Vic) Awards Night is where excellence meets glamour – an unforgettable showcase of achievement and innovation\, attended by over 900 insurance claims professionals from across Australia. Be inspired as we honour the outstanding individuals and companies setting new benchmarks across five prestigious award categories. \nFrom seasoned leaders to rising stars\, this night celebrates the passion\, professionalism\, and dedication that make our industry exceptional. \nGet in your best cocktail/formal lounge wear and secure your tickets now for what will be our 10th Awards Night. \nTicket sales are open to all who are in and support the insurance claims industry. \n**Note: A link will be provided to ticket purchasers for guest names and dietary requirements in a separate email due by 26 November. \nOur thanks to sponsors:\nPremier \n \n  \nPlatinum \n  \n \n  \nGold \n  \n \n  \n \n  \n \n  \n \n  \n \n  \n \n  \n \n  \n \n  \n \n  \nSilver \n  \n                      \n          \n    \n  \n 
URL:https://aicla.org/event/vic-awards-2025/
LOCATION:Crown Palladium\, Level 1 Crown Towers\, Crown Melbourne\, 8 Whiteman St\, SOUTHBANK\, Victoria\, 3006\, Australia
ATTACH;FMTTYPE=image/png:https://aicla.org/wp-content/uploads/VIC-Awards-5.png
END:VEVENT
END:VCALENDAR